BEGIN:VCALENDAR
METHOD:PUBLISH
PRODID:www-igk2495-fau-de//Events//DE
VERSION:2.0
BEGIN:VEVENT
SUMMARY:Block Lecture: Processing of Lead-Free Polycrystalline and Sin
 gle Crystal Ferroelectrics
UID:23e1-c2e0-ac8c-9465@www.igk2495.fau.de
DTSTART:20241206T130000Z
DTEND:20241206T160000Z
LOCATION:0.56
DTSTAMP:20260422T054843Z
END:VEVENT
END:VCALENDAR